BEGIN:VCALENDAR
VERSION:2.0
PRODID:-//The Lake Country Mom - ECPv6.15.20//NONSGML v1.0//EN
CALSCALE:GREGORIAN
METHOD:PUBLISH
X-ORIGINAL-URL:https://thelakecountrymom.com
X-WR-CALDESC:Events for The Lake Country Mom
REFRESH-INTERVAL;VALUE=DURATION:PT1H
X-Robots-Tag:noindex
X-PUBLISHED-TTL:PT1H
BEGIN:VTIMEZONE
TZID:America/Chicago
BEGIN:DAYLIGHT
TZOFFSETFROM:-0600
TZOFFSETTO:-0500
TZNAME:CDT
DTSTART:20240310T080000
END:DAYLIGHT
BEGIN:STANDARD
TZOFFSETFROM:-0500
TZOFFSETTO:-0600
TZNAME:CST
DTSTART:20241103T070000
END:STANDARD
BEGIN:DAYLIGHT
TZOFFSETFROM:-0600
TZOFFSETTO:-0500
TZNAME:CDT
DTSTART:20250309T080000
END:DAYLIGHT
BEGIN:STANDARD
TZOFFSETFROM:-0500
TZOFFSETTO:-0600
TZNAME:CST
DTSTART:20251102T070000
END:STANDARD
BEGIN:DAYLIGHT
TZOFFSETFROM:-0600
TZOFFSETTO:-0500
TZNAME:CDT
DTSTART:20260308T080000
END:DAYLIGHT
BEGIN:STANDARD
TZOFFSETFROM:-0500
TZOFFSETTO:-0600
TZNAME:CST
DTSTART:20261101T070000
END:STANDARD
END:VTIMEZONE
BEGIN:VEVENT
DTSTART;TZID=America/Chicago:20250403T180000
DTEND;TZID=America/Chicago:20250406T210000
DTSTAMP:20260419T150849
CREATED:20250330T134804Z
LAST-MODIFIED:20250330T140453Z
UID:390817-1743703200-1743973200@thelakecountrymom.com
SUMMARY:Lights of Spring at The Ingleside Hotel
DESCRIPTION:Lights of Spring at The Ingleside Hotel \n\n\n\nExperience the magic of a brand NEW walk-through light show at The Ingleside Hotel! From the makers of Country Christmas\, Lights of Spring brings all the excitement of the holiday season with a fresh spring twist. Stroll through the illuminated 3/4-mile outdoor trail filled with animated creatures and vibrant spring displays\, including Easter lights\, blooming flowers\, butterflies\, and more. \n\n\n\nCreate magical memories with loved ones as you take in the beauty of spring lights! \n\n\n\nDates:March 20-30\, 2025April 3-6\, 10-13\, 17-20\, 24-27\, 2025 \n\n\n\nHours:6:00 PM – 9:00 PM(Last admission ticket sold at 8:00 PM) \n\n\n\nPricing:$7 per personChildren 23 months and younger are free
URL:https://thelakecountrymom.com/lcevent/lights-of-spring-at-the-ingleside-hotel/
LOCATION:INGLESIDE\, 2810 Golf Road\, PEWAUKEE\, Wisconsin
END:VEVENT
BEGIN:VEVENT
DTSTART;TZID=America/Chicago:20250405T090000
DTEND;TZID=America/Chicago:20250405T150000
DTSTAMP:20260419T150849
CREATED:20250330T141409Z
LAST-MODIFIED:20250330T141411Z
UID:390823-1743843600-1743865200@thelakecountrymom.com
SUMMARY:Waukesha Spring Fling Vendor Show
DESCRIPTION:Over 70 vendors and crafters!  Annual Spring Kick-off for product vendors and crafts.  Products like Tupperware; Young living essential oils; Tastefully Simple; Thirty One Gifts; Crafted Bubbes; Gourmet Cupboard; It Works!; Grandma Jenny’s Crafts; Bella Bro Design and many\, many more! \n\n\n\nFree Admission
URL:https://thelakecountrymom.com/lcevent/waukesha-spring-fling-vendor-show/
LOCATION:Waukesha County Expo\, 1000 Northview Road\, Waukesha\, Wisconsin\, 53188
END:VEVENT
BEGIN:VEVENT
DTSTART;TZID=America/Chicago:20250406T110000
DTEND;TZID=America/Chicago:20250406T130000
DTSTAMP:20260419T150849
CREATED:20250330T131100Z
LAST-MODIFIED:20250330T131103Z
UID:390806-1743937200-1743944400@thelakecountrymom.com
SUMMARY:Big Bend/Vernon Annual Spring Carnival
DESCRIPTION:Big Bend/Vernon Annual Spring Carnival – Annual Spring CarnivalBig Bend Elementary School\, w230 S8695 Big Bend Dr\, Big Bend\, WI 53103. Phone: 262-662-3467. Saturday\, April 6\, 2024  at 11 am. Free to the Public. Big Bend Community Center. BBV Lions Club\, 3rd . 11am-1pm\, FREE. Fun for all! Bounce House\, Carnival Games\, Hot dogs\, chips\, water and cookies. Come and join the fun!
URL:https://thelakecountrymom.com/lcevent/big-bend-vernon-annual-spring-carnival/
END:VEVENT
BEGIN:VEVENT
DTSTART;TZID=America/Chicago:20250410T180000
DTEND;TZID=America/Chicago:20250413T210000
DTSTAMP:20260419T150849
CREATED:20250330T135026Z
LAST-MODIFIED:20250330T135030Z
UID:390819-1744308000-1744578000@thelakecountrymom.com
SUMMARY:Lights of Spring at The Ingleside Hotel
DESCRIPTION:Lights of Spring at The Ingleside Hotel \n\n\n\nExperience the magic of a brand NEW walk-through light show at The Ingleside Hotel! From the makers of Country Christmas\, Lights of Spring brings all the excitement of the holiday season with a fresh spring twist. Stroll through the illuminated 3/4-mile outdoor trail filled with animated creatures and vibrant spring displays\, including Easter lights\, blooming flowers\, butterflies\, and more. \n\n\n\nCreate magical memories with loved ones as you take in the beauty of spring lights! \n\n\n\nDates:March 20-30\, 2025April 3-6\, 10-13\, 17-20\, 24-27\, 2025 \n\n\n\nHours:6:00 PM – 9:00 PM(Last admission ticket sold at 8:00 PM) \n\n\n\nPricing:$7 per personChildren 23 months and younger are free
URL:https://thelakecountrymom.com/lcevent/lights-of-spring-at-the-ingleside-hotel-2/
END:VEVENT
BEGIN:VEVENT
DTSTART;TZID=America/Chicago:20250412T083000
DTEND;TZID=America/Chicago:20250412T113000
DTSTAMP:20260419T150849
CREATED:20250330T132803Z
LAST-MODIFIED:20250330T132806Z
UID:390810-1744446600-1744457400@thelakecountrymom.com
SUMMARY:Egg Drop presented by Lannon Stone Foundation
DESCRIPTION:Thousands of eggs will be dropped from the top of the fire truck ladder for kids ages 0–10 to gather up and turn in for a special treat! Children will be divided into appropriate age groups at the event. Please bring your own basket or bag to collect the eggs. \n\n\n\nIn addition to the Egg Drop\, we will again have a petting farm\, visit and photo-op with the Bunny and Sparky\, and glitter tattoos!! \n\n\n\nThis is an outdoor event so dress for the weather! \n\n\n\nREGISTER ONLINE
URL:https://thelakecountrymom.com/lcevent/egg-drop-presented-by-lannon-stone-foundation/
LOCATION:The Grove at Village Park\, W244 N6260 Weaver Drive\, Sussex\, Wisconsin\, 53089
END:VEVENT
BEGIN:VEVENT
DTSTART;TZID=America/Chicago:20250412T120000
DTEND;TZID=America/Chicago:20250412T140000
DTSTAMP:20260419T150849
CREATED:20250330T133138Z
LAST-MODIFIED:20250330T133418Z
UID:390812-1744459200-1744466400@thelakecountrymom.com
SUMMARY:Bunny Hop Festival
DESCRIPTION:Spring into fun at BAYSHORE’s 4th Annual Bunny Hop Festival on Saturday\, April 12th\, from 12 – 2pm in the Rotunda! Kid Boogie Down will have you hopping to the beat while you snap magical photos with the Easter Bunny and beloved fairytale characters from Fairytale Birthday Company! Plus\, enjoy whimsical balloon creations\, dazzling face painting\, and an adorable stuffed bunny giveaway for the first 500 kids.
URL:https://thelakecountrymom.com/lcevent/bunny-hop-festival/
LOCATION:Bayshore\, 5800 N. Bayshore Drive\, Glendale\, Wisconsin
END:VEVENT
BEGIN:VEVENT
DTSTART;TZID=America/Chicago:20250412T123000
DTEND;TZID=America/Chicago:20250412T143000
DTSTAMP:20260419T150849
CREATED:20250330T134045Z
LAST-MODIFIED:20250330T134048Z
UID:390816-1744461000-1744468200@thelakecountrymom.com
SUMMARY:Lisbon's Easter Eggstravaganza
DESCRIPTION:Admission is free for this fun-filled\, family event! Walk through the park prairie with an Easter basket & collect goodies from local organizations. At the end\, take your picture with the Easter Bunny!
URL:https://thelakecountrymom.com/lcevent/lisbons-easter-eggstravaganza/
END:VEVENT
BEGIN:VEVENT
DTSTART;TZID=America/Chicago:20250419T090000
DTEND;TZID=America/Chicago:20250419T160000
DTSTAMP:20260419T150849
CREATED:20250330T131847Z
LAST-MODIFIED:20250330T131849Z
UID:390809-1745053200-1745078400@thelakecountrymom.com
SUMMARY:Milwaukee County Zoo Egg Day
DESCRIPTION:Milwaukee County Zoo Egg Day – Easter Egg Hunt \n\n\n\nHead to the Zoo for all the Egg fun! Egg Day Sponsored by Welch’s and Pick ‘n Save. Kids age 8 and under can search for special Easter-themed tokens and redeem them for sweet treats! Join a parade with the Easter Bunny and his costumed character friends. Many other FUN activities! The day before Easter at the Zoo means “egg-stra” special fun. Join us for the festivities as Egg Day. Join us for the “Bubble Wonders Show\,” as an expert “Bubblologist” creates amazing works of art with…BUBBLES! Bubble tricks include: “the bubble caterpillar\,” “bubble volcano\,” “electric dancing bubble\,” and the popular “bubble merry-go-round!”Egg DayLake Evinrude Deck – “The Hop-to-It Bunny Scavenger Hunt” – 9 am to 1 p.m. Calling all “egg-straordinary” kids 8 and under to hop to it\, and search for brightly colored Easter eggs. Redeem the eggs for sweet treats! Easter Parade – 2 p.m. Hip\, Hop\, Hurrah! Meet at the Northwestern Mutual Family Farm\, along with the master of ceremonies\, the Easter Bunny\, and march through the park! You’ll conclude at the Peck Welcome Center for a chance to win special prize giveaways.
URL:https://thelakecountrymom.com/lcevent/milwaukee-county-zoo-egg-day/
END:VEVENT
BEGIN:VEVENT
DTSTART;TZID=America/Chicago:20250419T100000
DTEND;TZID=America/Chicago:20250419T110000
DTSTAMP:20260419T150849
CREATED:20250330T130826Z
LAST-MODIFIED:20250330T130830Z
UID:390805-1745056800-1745060400@thelakecountrymom.com
SUMMARY:Brookfield Easter Egg Hunt
DESCRIPTION:Brookfield Easter Egg Hunt – Easter egg huntMarx Park\, 700 South Barker Road\, Brookfield\, WI. Event date and time: Saturday\, April 19\, 2025 at 10am Sharp! (Rain or Shine!). FEE: Free. Free. All children 8 years old and under are invited to participate in the Easter Egg Hunt. Children will be grouped by ages. We will again have an Easter Egg Crawl for the tiny egg-hunters.
URL:https://thelakecountrymom.com/lcevent/brookfield-easter-egg-hunt/
END:VEVENT
BEGIN:VEVENT
DTSTART;TZID=America/Chicago:20250419T110000
DTEND;TZID=America/Chicago:20250420T140000
DTSTAMP:20260419T150849
CREATED:20250330T131608Z
LAST-MODIFIED:20250330T131610Z
UID:390807-1745060400-1745157600@thelakecountrymom.com
SUMMARY:Easter Egg Hunt at RiverGlen
DESCRIPTION:RiverGlen Christian Church Waukesha – Easter egg hunt\, Scavenger hunt\, Photos with the Easter Bunny\, Easter Festival\, Inflatables\, bounce houses\, etc.\, Children’s crafts\, Games\, held indoors in bad weather\, FREE event\, Baskets are provided\, Other activities\, restrooms\, concession stand (drinks\, snacks and/or food)Saturday\, April 19\, 2025 and Easter Sunday\, April 20\, 2025.  from 11am to 2pm.  Click here for our Facebook page. No RSVP Required! Invite your neighbors. We’re having four identical Easter services Saturday at 4pm and Sunday at 8:00am\, 9:30 and 11am! Held at both our Pewaukee and Waukesha campuses.  Special Easter treats in the lobby\, unique RG kids Easter programming\, a visit from the Easter bunny\, family photo booth\, and live worship. Plus\, live baptisms following each service!
URL:https://thelakecountrymom.com/lcevent/easter-egg-hunt-at-riverglen/
LOCATION:RiverGlen Waukesha\, S31 W30601 Sunset Dr\, Waukesha\, Wisconsin
END:VEVENT
BEGIN:VEVENT
DTSTART;TZID=America/Chicago:20250420T090000
DTEND;TZID=America/Chicago:20250420T150000
DTSTAMP:20260419T150849
CREATED:20250330T133657Z
LAST-MODIFIED:20250330T133700Z
UID:390814-1745139600-1745161200@thelakecountrymom.com
SUMMARY:EASTER BRUNCH at the Pfister Grand Ballroom
DESCRIPTION:Join us for a memorable Easter Brunch filled with delicious food\, fun activities\, and a special visit from the Easter Bunny! Gather your loved ones and celebrate the season with a festive experience that’s sure to delight everyone. Make this Easter one to remember at The Pfister Hotel! Reservation times are available from 9 AM – 3 PM.
URL:https://thelakecountrymom.com/lcevent/easter-brunch-at-the-pfister-grand-ballroom/
LOCATION:Pfister Grand Ballroom\, Miwaukee\, Wisconsin
END:VEVENT
END:VCALENDAR